BEGIN:VCALENDAR
VERSION:2.0
PRODID:-//Startup Syndicate - ECPv6.15.20//NONSGML v1.0//EN
CALSCALE:GREGORIAN
METHOD:PUBLISH
X-WR-CALNAME:Startup Syndicate
X-ORIGINAL-URL:https://startupsyndicate.pk
X-WR-CALDESC:Events for Startup Syndicate
REFRESH-INTERVAL;VALUE=DURATION:PT1H
X-Robots-Tag:noindex
X-PUBLISHED-TTL:PT1H
BEGIN:VTIMEZONE
TZID:Asia/Karachi
BEGIN:STANDARD
TZOFFSETFROM:+0500
TZOFFSETTO:+0500
TZNAME:PKT
DTSTART:20230101T000000
END:STANDARD
END:VTIMEZONE
BEGIN:VEVENT
DTSTART;TZID=Asia/Karachi:20251028T110000
DTEND;TZID=Asia/Karachi:20251028T120000
DTSTAMP:20260419T180041
CREATED:20251023T075923Z
LAST-MODIFIED:20251028T032231Z
UID:4262-1761649200-1761652800@startupsyndicate.pk
SUMMARY:How to Get Startup Ideas That Solve Problems
DESCRIPTION:The first step to building a great startup is finding the brilliant idea behind it! \nAnd finding an idea rooted in true market desire requires more than just inspiration – it requires a method. Most early-stage ventures fail because the founder built a solution nobody was truly looking for. \nJoin Startup Syndicate for a direct\, 60-minute virtual session focused on the fundamentals of idea generation and evaluation. \nWhat We Cover:\n\nThe Problem-First Approach: Learn to shift your mindset from solution-driven to problem-driven\, ensuring your idea addresses a true market need.\nEvaluating Desirability: Understand the initial steps of the Desirability\, Feasibility\, and Viability (DFV) framework to assess if people will actually want your product.\nImmediate Action: You will leave with a clear guidance needed to interview 3 potential users immediately – the most critical step in idea validation.\n\nThis session provides practical\, actionable guidance for aspiring and early-stage founders ready to start their journey the right way. \nSecure your spot now and start building with confidence! \nDate & Time: Tuesday\, October 28th\, 2025 | 11:00 AM – 12:00 PM (GMT+5) \nCost: FREE  \nThe session wil be held virtually and its link will be shared upon registration. \nRegistration Closed
URL:https://startupsyndicate.pk/event/how-to-get-startup-ideas-that-solve-problems/
CATEGORIES:FFL,virtual
ATTACH;FMTTYPE=image/png:https://startupsyndicate.pk/wp-content/uploads/2025/10/FFL-how-to-get-startup-ideas-1.png
ORGANIZER;CN="Startup Syndicate":MAILTO:contact@startupsyndicate.pk
END:VEVENT
BEGIN:VEVENT
DTSTART;TZID=Asia/Karachi:20250417T160000
DTEND;TZID=Asia/Karachi:20250417T170000
DTSTAMP:20260419T180041
CREATED:20250415T080406Z
LAST-MODIFIED:20250415T080406Z
UID:3511-1744905600-1744909200@startupsyndicate.pk
SUMMARY:AI Founders' Huddle
DESCRIPTION:Building with AI? So are we. \n​Join us for the AI Founders’ Huddle — a casual\, no-fluff virtual gathering of startup founders who are using AI tools to build\, ship\, and solve real-world problems. \n​Whether you’re at MVP stage\, scaling fast\, or somewhere in between\, if you’re actively building with AI\, you’re welcome here. \n​💬 Expect a collaborative\, founder-first conversation (not a webinar).\n📩 Follow-up: We’ll share key takeaways + a link to join the growing WhatsApp community. \n​Hosted by Startup Syndicate — where founders building the future come together. \nRegister here: https://lu.ma/cvjpxk36
URL:https://startupsyndicate.pk/event/ai-founders-huddle/
CATEGORIES:virtual
ATTACH;FMTTYPE=image/jpeg:https://startupsyndicate.pk/wp-content/uploads/2025/04/ai-founders-huddle.jpeg
ORGANIZER;CN="Startup Syndicate":MAILTO:contact@startupsyndicate.pk
END:VEVENT
BEGIN:VEVENT
DTSTART;TZID=Asia/Karachi:20250318T220000
DTEND;TZID=Asia/Karachi:20250318T230000
DTSTAMP:20260419T180041
CREATED:20250317T081040Z
LAST-MODIFIED:20250317T081152Z
UID:3408-1742335200-1742338800@startupsyndicate.pk
SUMMARY:Unlocking Angel Investments for Pakistani Startups
DESCRIPTION:Let’s Talk About Angel Investment in Pakistan – A Conversation with Epic Angels!💸 \nAt Startup Syndicate\, we are committed to unlocking funding opportunities for founders in Pakistan. That’s why we’re excited to bring you an exclusive AMA (Ask Me Anything) session with Maaike Doyer\, Founder & Managing Partner at Epic Angels\, one of the most active angel networks in the APAC & LATAM regions. \nEpic Angels invests in early-stage startups and provides more than just capital; they help founders scale\, connect\, and grow 🏃‍♀️🚀 \nThis conversation is for you if you’re: \n– A startup founder looking to raise angel investment\n– Wondering what investors look for in early-stage startups\n– Curious about how Pakistani startups have secured investment from Epic Angels\n– Interested in learning about the future of angel investment in the region \nEvent Details: \nDate: 18th March 2025\nTime: 10 PM (PKT)\nLive Online Webinar \n👉Register here \nThis is a rare opportunity to gain direct insights from an experienced investor and get answers to your biggest funding questions. We’ll also be discussing real case studies of startups in #Pakistan that have successfully raised investment. \nLooking forward to an engaging discussion\, come prepared with your questions!
URL:https://startupsyndicate.pk/event/unlocking-angel-investments-for-pakistani-startups/
CATEGORIES:virtual
ATTACH;FMTTYPE=image/png:https://startupsyndicate.pk/wp-content/uploads/2025/03/AMA-Maaike-Doyer.png
END:VEVENT
BEGIN:VEVENT
DTSTART;TZID=Asia/Karachi:20241217T170000
DTEND;TZID=Asia/Karachi:20241217T190000
DTSTAMP:20260419T180041
CREATED:20241205T095401Z
LAST-MODIFIED:20241217T120641Z
UID:3097-1734454800-1734462000@startupsyndicate.pk
SUMMARY:AI for Entrepreneurs - Virtual Workshop by Atomcamp
DESCRIPTION:Join us for an exclusive virtual workshop in collaboration with Atomcamp: “AI for Entrepreneurs” \nWhether you’re a startup founder or an established business owner\, this workshop is your gateway to leveraging AI for exponential growth. 🌐 \nWhy Attend? \n\nDiscover AI Tools: Learn how cutting-edge AI platforms can transform your operations\, marketing\, and customer engagement.\nActionable Insights: Hands-on guidance on using AI for business growth and scaling.\nExpert-Led Session: Led by professionals who’ll simplify AI for practical use in your entrepreneurial journey.\nInteractive Q&A: Get answers to your questions and tailor AI solutions to your needs.\n\n  \n📅 Date: 17th December 2024\nTime: 5:00 PM – 7:00 PM (PKT)\nRegistration Fee: Rs. 750 \nSeats are limited\, so don’t miss out! \nSupporting Partner: NextGENi      |      Training Partner: atomcamp \nREGISTER NOW\nFeel free to reach out in case of any queries\, on email contact@startupsyndicate.pk OR WhatsApp: +923394000126
URL:https://startupsyndicate.pk/event/ai-for-entrepreneurs-virtual-workshop-by-atomcamp/
CATEGORIES:virtual
ATTACH;FMTTYPE=image/png:https://startupsyndicate.pk/wp-content/uploads/2024/12/atomcamp-aiforentrepreneurs.png
END:VEVENT
BEGIN:VEVENT
DTSTART;TZID=Asia/Karachi:20241129T170000
DTEND;TZID=Asia/Karachi:20241129T190000
DTSTAMP:20260419T180041
CREATED:20241108T072520Z
LAST-MODIFIED:20241125T112649Z
UID:2708-1732899600-1732906800@startupsyndicate.pk
SUMMARY:funl online - Sustainability and Circular Economy
DESCRIPTION:Learn how data science can solve environmental challenges in this interactive session with atomcamp \nWe’re exploring how startups\, corporates\, and change-makers can reshape the future of sustainable business. 🚀💡 \n🔗 Join us this November to be part of the movement. Let’s innovate for a sustainable future together! \n📅 Date: EVENT SHIFTED ONLINE AND IS NOW FREE! \nWhy Attend? \n\nGain insights what’s happening in the Sustainability space\nLearn from local market-leaders on how to implement the best solutions\nMeet companies from the industry and like-minded individuals to enhance understanding or come up with your own ideas\n\nSupporting Partner: NextGENi      |      Training Partner: atomcamp \nEVENT SHIFTED ONLINE
URL:https://startupsyndicate.pk/event/funl-online-sustainability-circular-economy/
CATEGORIES:funl,virtual
ATTACH;FMTTYPE=image/png:https://startupsyndicate.pk/wp-content/uploads/2024/11/funl-nov-online.png
END:VEVENT
BEGIN:VEVENT
DTSTART;TZID=Asia/Karachi:20241123T113000
DTEND;TZID=Asia/Karachi:20241123T130000
DTSTAMP:20260419T180041
CREATED:20241108T113711Z
LAST-MODIFIED:20241118T055547Z
UID:2721-1732361400-1732366800@startupsyndicate.pk
SUMMARY:Virtual Workshop: Pitching for Impact
DESCRIPTION:Learn how to pitch impact-driven solutions that investors love in this hands-on workshop. \nAn overview on how to pitch an impact-startup vs. others. \nLearn the finer details of what investors look for in an impact-driven investment.
URL:https://startupsyndicate.pk/event/virtual-workshop-pitching-for-impact/
CATEGORIES:virtual
ATTACH;FMTTYPE=image/png:https://startupsyndicate.pk/wp-content/uploads/2024/11/funl-nov-virtual.png
END:VEVENT
END:VCALENDAR