BEGIN:VCALENDAR
VERSION:2.0
PRODID:-//Startup Syndicate - ECPv6.15.20//NONSGML v1.0//EN
CALSCALE:GREGORIAN
METHOD:PUBLISH
X-WR-CALNAME:Startup Syndicate
X-ORIGINAL-URL:https://startupsyndicate.pk
X-WR-CALDESC:Events for Startup Syndicate
REFRESH-INTERVAL;VALUE=DURATION:PT1H
X-Robots-Tag:noindex
X-PUBLISHED-TTL:PT1H
BEGIN:VTIMEZONE
TZID:Asia/Karachi
BEGIN:STANDARD
TZOFFSETFROM:+0500
TZOFFSETTO:+0500
TZNAME:PKT
DTSTART:20230101T000000
END:STANDARD
END:VTIMEZONE
BEGIN:VEVENT
DTSTART;TZID=Asia/Karachi:20241226T103000
DTEND;TZID=Asia/Karachi:20241226T143000
DTSTAMP:20260423T184402
CREATED:20241217T071001Z
LAST-MODIFIED:20241218T065418Z
UID:3242-1735209000-1735223400@startupsyndicate.pk
SUMMARY:Build Asia Startup Showdown 2024
DESCRIPTION:Are you building solutions that transform how we live\, work\, or build? The Build Asia Startup Showdown 2024 is your opportunity to shine! \nThe PropTech Convention\, in collaboration with the Startup Syndicate is bringing this premier startup competition designed to spotlight innovation in PropTech\, FinTech\, CleanTech\, Smart-Tech\, LegalTech\, and ConstructionTech! \nREGISTER NOW \nWhy You Should Apply💡 \n\nPitch to Industry Leaders: Showcase your ideas to investors\, corporate decision-makers\, and peers.\nUnlock Exclusive Perks: Win one of three fully funded Startup Syndicate Gold Memberships\, offering perks worth $250\,000 to fuel your growth.\nExpand Your Network: Connect with top players in real estate\, construction\, and sustainability.\nShape the Future: Be part of discussions on Smart\, Safe & Sustainable Building Technologies at the PropTech Convention.\n\nEvent Details: \n📅 Date: 26th December 2024\n📍 Location: Expo Center\, Karachi \nSeize the Opportunity 🚀 \nREGISTER NOW \nApplication deadline: 23rd December 2024
URL:https://startupsyndicate.pk/event/build-asia-startup-showdown-2024/
LOCATION:Expo center Karachi\, Main Main University Rd\, Block 15 Gulshan-e-Iqbal\, Karachi\, Karachi City\, Sindh\, Karachi\, Pakistan
CATEGORIES:competition
ATTACH;FMTTYPE=image/png:https://startupsyndicate.pk/wp-content/uploads/2024/12/startupshowdown-proptech-3.png
ORGANIZER;CN="Startup Syndicate":MAILTO:contact@startupsyndicate.pk
END:VEVENT
END:VCALENDAR